BEGIN:VCALENDAR
VERSION:2.0
PRODID:-//Age Concern Southland - ECPv6.2.2.1//NONSGML v1.0//EN
CALSCALE:GREGORIAN
METHOD:PUBLISH
X-WR-CALNAME:Age Concern Southland
X-ORIGINAL-URL:https://acinv.org.nz
X-WR-CALDESC:Events for Age Concern Southland
REFRESH-INTERVAL;VALUE=DURATION:PT1H
X-Robots-Tag:noindex
X-PUBLISHED-TTL:PT1H
BEGIN:VTIMEZONE
TZID:Pacific/Auckland
BEGIN:STANDARD
TZOFFSETFROM:+1300
TZOFFSETTO:+1200
TZNAME:NZST
DTSTART:20240406T140000
END:STANDARD
BEGIN:DAYLIGHT
TZOFFSETFROM:+1200
TZOFFSETTO:+1300
TZNAME:NZDT
DTSTART:20240928T140000
END:DAYLIGHT
END:VTIMEZONE
BEGIN:VEVENT
DTSTART;TZID=Pacific/Auckland:20240313T100000
DTEND;TZID=Pacific/Auckland:20240313T140000
DTSTAMP:20260423T063125
CREATED:20240215T091600Z
LAST-MODIFIED:20240215T091600Z
UID:1002-1710324000-1710338400@acinv.org.nz
SUMMARY:Staying Safe: A refresher course for older drivers
DESCRIPTION:Join us for a refresher course on the road code and driving with confidence. Contact Gillian or Heather to register. $5 koha for lunch
URL:https://acinv.org.nz/event/staying-safe-a-refresher-course-for-older-drivers-3/
END:VEVENT
END:VCALENDAR